BEGIN:VCALENDAR
VERSION:2.0
PRODID:-//Tukios.com/
BEGIN:VEVENT
UID:d7fe2262-9228-4b1b-b1d1-8a9affef714f@www.rose-neath.com
DTSTAMP:20260422T014433Z
DTSTART:20260423T200000Z
DTEND:20260423T210000Z
SUMMARY:Burial
DESCRIPTION:
URL:https://www.rose-neath.com/obituaries/thomas-castie
LOCATION:    Zwolle LA 71486
GEO:31.6315626;-93.6440698
END:VEVENT
END:VCALENDAR