BEGIN:VCALENDAR
VERSION:2.0
PRODID:-//Tukios.com/
BEGIN:VEVENT
UID:5831a0d4-11a1-4d1e-ac95-13d2a2b2f8e5@www.rose-neath.com
DTSTAMP:20260422T015022Z
DTSTART:20260422T220000Z
DTEND:20260423T020000Z
SUMMARY:Visitation
DESCRIPTION:
URL:https://www.rose-neath.com/obituaries/thomas-castie
LOCATION: 9891 Texas Hwy  Many LA 71449
GEO:31.4980367;-93.6222808
END:VEVENT
END:VCALENDAR