BEGIN:VCALENDAR
VERSION:2.0
PRODID:-//Tukios.com/
BEGIN:VEVENT
UID:9694ccd6-3d0f-4e52-a41a-e382b526e0da@www.rose-neath.com
DTSTAMP:20260421T234049Z
DTSTART:20260423T190000Z
DTEND:20260423T200000Z
SUMMARY:Funeral Service
DESCRIPTION:
URL:https://www.rose-neath.com/obituaries/mary-copeland
LOCATION: 405 E. 5th Street  Homer LA 71040
GEO:32.7909178;-93.0472773
END:VEVENT
END:VCALENDAR