BEGIN:VCALENDAR
VERSION:2.0
PRODID:-//Tukios.com/
BEGIN:VEVENT
UID:5f529463-7e59-4d63-874e-5c95043ab931@www.rose-neath.com
DTSTAMP:20260422T191107Z
DTSTART:20260425T150000Z
DTEND:20260425T160000Z
SUMMARY:Funeral Service
DESCRIPTION:
URL:https://www.rose-neath.com/obituaries/martha-bolgiano
LOCATION: 2500 Southside Dr.  Shreveport LA 71118
GEO:32.413618;-93.7946483
END:VEVENT
END:VCALENDAR