BEGIN:VCALENDAR
VERSION:2.0
PRODID:-//Tukios.com/
BEGIN:VEVENT
UID:d2a141d9-8792-490b-a2b6-c7b77c0d9b5a@www.rose-neath.com
DTSTAMP:20260422T191343Z
DTSTART:20260424T220000Z
DTEND:20260425T000000Z
SUMMARY:Visitation
DESCRIPTION:
URL:https://www.rose-neath.com/obituaries/martha-bolgiano
LOCATION: 2500 Southside Dr.  Shreveport LA 71118
GEO:32.413618;-93.7946483
END:VEVENT
END:VCALENDAR