BEGIN:VCALENDAR
VERSION:2.0
PRODID:-//Tukios.com/
BEGIN:VEVENT
UID:7d047cf6-2ba4-4937-9fc2-39e144c7499e@www.rose-neath.com
DTSTAMP:20260422T233042Z
DTSTART:20260423T230000Z
DTEND:20260424T000000Z
SUMMARY:Rosary
DESCRIPTION:
URL:https://www.rose-neath.com/obituaries/kathy-parrie
LOCATION: 9891 Texas Hwy  Many LA 71449
GEO:31.4980367;-93.6222808
END:VEVENT
END:VCALENDAR