BEGIN:VCALENDAR
VERSION:2.0
PRODID:-//Tukios.com/
BEGIN:VEVENT
UID:458676d0-07bb-4025-b92c-4a847ba90417@www.rose-neath.com
DTSTAMP:20260422T232729Z
DTSTART:20260424T170000Z
DTEND:20260424T180000Z
SUMMARY:Burial
DESCRIPTION:
URL:https://www.rose-neath.com/obituaries/kathy-parrie
LOCATION: 307 Hammond Street  Zwolle LA 71486
GEO:31.6330491;-93.6501502
END:VEVENT
END:VCALENDAR