BEGIN:VCALENDAR
VERSION:2.0
PRODID:-//Tukios.com/
BEGIN:VEVENT
UID:fa5f80f8-a975-4fc6-8d27-971dc71c3041@www.rose-neath.com
DTSTAMP:20260422T232730Z
DTSTART:20260424T160000Z
DTEND:20260424T170000Z
SUMMARY:Funeral Service
DESCRIPTION:
URL:https://www.rose-neath.com/obituaries/kathy-parrie
LOCATION: 307 Hammond Avenue  Zwolle LA 71486
GEO:31.6315626;-93.6440698
END:VEVENT
END:VCALENDAR