BEGIN:VCALENDAR
VERSION:2.0
PRODID:-//Tukios.com/
BEGIN:VEVENT
UID:b6ac77cc-fa2a-4fe5-af0d-d3065bdb6910@www.rose-neath.com
DTSTAMP:20260422T232730Z
DTSTART:20260423T220000Z
DTEND:20260424T020000Z
SUMMARY:Visitation
DESCRIPTION:
URL:https://www.rose-neath.com/obituaries/kathy-parrie
LOCATION: 9891 Texas Hwy  Many LA 71449
GEO:31.4980367;-93.6222808
END:VEVENT
END:VCALENDAR