BEGIN:VCALENDAR
VERSION:2.0
PRODID:-//Tukios.com/
BEGIN:VEVENT
UID:4f36a82a-0068-4733-abed-955a83f2da71@www.rose-neath.com
DTSTAMP:20260423T224627Z
DTSTART:20260429T160000Z
DTEND:20260429T170000Z
SUMMARY:Memorial Service
DESCRIPTION:
URL:https://www.rose-neath.com/obituaries/joanie-cox
LOCATION:  Bellevue St  Benton LA 71006
GEO:32.6941231;-93.741262
END:VEVENT
END:VCALENDAR