BEGIN:VCALENDAR
VERSION:2.0
PRODID:-//Tukios.com/
BEGIN:VEVENT
UID:9862fef3-ba20-4dad-84a5-86ad1557fc5a@www.rose-neath.com
DTSTAMP:20260421T204815Z
DTSTART:20260423T173000Z
DTEND:20260423T183000Z
SUMMARY:Burial
DESCRIPTION:
URL:https://www.rose-neath.com/obituaries/gloria-wood
LOCATION:Zion Baptist Cemetery 174 Grappes Bluff Rd.  Fairview Alpha LA 
	71019
GEO:31.9680146;-93.1879422
END:VEVENT
END:VCALENDAR