BEGIN:VCALENDAR
VERSION:2.0
PRODID:-//Tukios.com/
BEGIN:VEVENT
UID:ce0b762f-2f9e-4aad-b461-97b1c8917a98@www.rose-neath.com
DTSTAMP:20260421T205057Z
DTSTART:20260423T160000Z
DTEND:20260423T170000Z
SUMMARY:Funeral Service
DESCRIPTION:
URL:https://www.rose-neath.com/obituaries/gloria-wood
LOCATION:Rose-Neath Coushatta 1315 Ringgold Ave  Coushatta LA 71019
GEO:32.0260635;-93.3391671
END:VEVENT
END:VCALENDAR