BEGIN:VCALENDAR
VERSION:2.0
PRODID:-//Tukios.com/
BEGIN:VEVENT
UID:e191ee47-af81-4696-89f1-ac362d2cca54@www.rose-neath.com
DTSTAMP:20260421T205656Z
DTSTART:20260423T150000Z
DTEND:20260423T160000Z
SUMMARY:Visitation
DESCRIPTION:
URL:https://www.rose-neath.com/obituaries/gloria-wood
LOCATION:Rose-Neath Coushatta 1315 Ringgold Ave  Coushatta LA 71019
GEO:32.0260635;-93.3391671
END:VEVENT
END:VCALENDAR