BEGIN:VCALENDAR
VERSION:2.0
PRODID:-//Tukios.com/
BEGIN:VEVENT
UID:0e9f32fa-c934-4a84-a397-896c620f5207@www.rose-neath.com
DTSTAMP:20260420T231024Z
DTSTART:20260421T220000Z
DTEND:20260422T010000Z
SUMMARY:Visitation
DESCRIPTION:
URL:https://www.rose-neath.com/obituaries/eunice-gentry
LOCATION:Oak Hill Baptist Church 154 Pastors Dr  Many LA 71449
GEO:31.5200314;-93.5326913
END:VEVENT
END:VCALENDAR