BEGIN:VCALENDAR
VERSION:2.0
PRODID:-//Tukios.com/
BEGIN:VEVENT
UID:5bb1d472-7adb-4aa6-8a21-cacdecadfd19@www.rose-neath.com
DTSTAMP:20260420T231552Z
DTSTART:20260422T190000Z
DTEND:20260422T200000Z
SUMMARY:Graveside Service
DESCRIPTION:
URL:https://www.rose-neath.com/obituaries/eunice-gentry
LOCATION:Oak Hill Cemetery 154 Pastors Drive  Many LA 71449
GEO:31.5200249;-93.532696
END:VEVENT
END:VCALENDAR