BEGIN:VCALENDAR
VERSION:2.0
PRODID:-//Tukios.com/
BEGIN:VEVENT
UID:27b0764a-e0b1-4eb4-976c-d174efe141be@www.rose-neath.com
DTSTAMP:20260423T204516Z
DTSTART:20260425T200000Z
DTEND:20260425T210000Z
SUMMARY:Visitation
DESCRIPTION:
URL:https://www.rose-neath.com/obituaries/elizabeth-gibson
LOCATION:First Baptist Church, Frost Chapel 543 Ockley Drive  Shreveport 
	LA 71106
GEO:32.4688516;-93.7400591
END:VEVENT
END:VCALENDAR