BEGIN:VCALENDAR
VERSION:2.0
PRODID:-//Tukios.com/
BEGIN:VEVENT
UID:b5655fab-8fda-46e8-99f7-b3fd48435586@www.rose-neath.com
DTSTAMP:20260423T204841Z
DTSTART:20260425T210000Z
DTEND:20260425T220000Z
SUMMARY:Funeral Service
DESCRIPTION:
URL:https://www.rose-neath.com/obituaries/elizabeth-gibson
LOCATION:First Baptist Church, Frost Chapel 543 Ockley Drive  Shreveport 
	LA 71106
GEO:32.4688516;-93.7400591
END:VEVENT
END:VCALENDAR