BEGIN:VCALENDAR
VERSION:2.0
PRODID:-//Tukios.com/
BEGIN:VEVENT
UID:050d9a49-53af-4753-8e8c-b851b2237b19@www.rose-neath.com
DTSTAMP:20260421T001400Z
DTSTART:20260421T230000Z
DTEND:20260422T000000Z
SUMMARY:Rosary
DESCRIPTION:
URL:https://www.rose-neath.com/obituaries/dale-laroux
LOCATION: 9891 Texas Hwy  Many LA 71449
GEO:31.4980367;-93.6222808
END:VEVENT
END:VCALENDAR