BEGIN:VCALENDAR
VERSION:2.0
PRODID:-//Tukios.com/
BEGIN:VEVENT
UID:23f847d0-205d-4e9c-983a-4944cad2d8ec@www.rose-neath.com
DTSTAMP:20260421T001308Z
DTSTART:20260422T160000Z
DTEND:20260422T170000Z
SUMMARY:Burial
DESCRIPTION:
URL:https://www.rose-neath.com/obituaries/dale-laroux
LOCATION: 307 Hammond Avenue  Zwolle LA 71486
GEO:31.6315626;-93.6440698
END:VEVENT
END:VCALENDAR