BEGIN:VCALENDAR
VERSION:2.0
PRODID:-//Tukios.com/
BEGIN:VEVENT
UID:62c19fd3-7c24-467b-a3b2-a47705723602@www.rose-neath.com
DTSTAMP:20260421T001804Z
DTSTART:20260422T150000Z
DTEND:20260422T160000Z
SUMMARY:Funeral Service
DESCRIPTION:
URL:https://www.rose-neath.com/obituaries/dale-laroux
LOCATION:St. Joseph Catholic Church 307 Hammond Avenue  Zwolle LA 71486
GEO:31.6315626;-93.6440698
END:VEVENT
END:VCALENDAR