BEGIN:VCALENDAR
VERSION:2.0
PRODID:-//Tukios.com/
BEGIN:VEVENT
UID:43f02b42-46e0-4e94-b56c-4ef1193e413a@www.rose-neath.com
DTSTAMP:20260424T185848Z
DTSTART:20260425T190000Z
DTEND:20260425T200000Z
SUMMARY:Funeral Service
DESCRIPTION:
URL:https://www.rose-neath.com/obituaries/christopher-chris-friday
LOCATION:Fellowship Baptist Church 124 Fellowship Cir  Converse LA 71419
GEO:31.7851742;-93.6469776
END:VEVENT
END:VCALENDAR