BEGIN:VCALENDAR
VERSION:2.0
PRODID:-//Tukios.com/
BEGIN:VEVENT
UID:a888d819-e9ca-42f5-9e73-0b3f953c2e4f@www.rose-neath.com
DTSTAMP:20260424T185643Z
DTSTART:20260425T170000Z
DTEND:20260425T190000Z
SUMMARY:Visitation
DESCRIPTION:
URL:https://www.rose-neath.com/obituaries/christopher-chris-friday
LOCATION:Fellowship Baptist Church 124 Fellowship Cir  Converse LA 71419
GEO:31.7851742;-93.6469776
END:VEVENT
END:VCALENDAR