BEGIN:VCALENDAR
VERSION:2.0
PRODID:-//Tukios.com/
BEGIN:VEVENT
UID:57660b20-14c8-4efc-bead-3f0fbefe0c94@www.rose-neath.com
DTSTAMP:20260419T182103Z
DTSTART:20260422T173000Z
DTEND:20260422T180000Z
SUMMARY:Graveside Service
DESCRIPTION:
URL:https://www.rose-neath.com/obituaries/carol-davis
LOCATION:Plain Dealing Cemetery 101-121 Plain Dealing Cemetery Road  
	Plain Dealing LA 71064
GEO:32.9186446;-93.6893414
END:VEVENT
END:VCALENDAR