BEGIN:VCALENDAR
VERSION:2.0
PRODID:-//Tukios.com/
BEGIN:VEVENT
UID:88b8a4ab-f7eb-483d-975d-63f0442904cc@www.rose-neath.com
DTSTAMP:20260419T181908Z
DTSTART:20260422T160000Z
DTEND:20260422T170000Z
SUMMARY:Funeral Service
DESCRIPTION:
URL:https://www.rose-neath.com/obituaries/carol-davis
LOCATION: 2201 Airline Dr.  Bossier LA 71111
GEO:32.5406506;-93.7089634
END:VEVENT
END:VCALENDAR