BEGIN:VCALENDAR
VERSION:2.0
PRODID:-//Tukios.com/
BEGIN:VEVENT
UID:ddc96ae2-83f6-4b91-97df-afb922e0f684@www.rose-neath.com
DTSTAMP:20260419T181803Z
DTSTART:20260422T150000Z
DTEND:20260422T160000Z
SUMMARY:Visitation
DESCRIPTION:
URL:https://www.rose-neath.com/obituaries/carol-davis
LOCATION: 2201 Airline Dr.  Bossier LA 71111
GEO:32.5406506;-93.7089634
END:VEVENT
END:VCALENDAR